BEGIN:VCALENDAR
VERSION:2.0
PRODID:-//Asociación Española de Geotermia - geotermia - energía - geotérmica  - ECPv6.15.11//NONSGML v1.0//EN
CALSCALE:GREGORIAN
METHOD:PUBLISH
X-ORIGINAL-URL:https://geotermia.ch
X-WR-CALDESC:Eventos para Asociación Española de Geotermia - geotermia - energía - geotérmica 
REFRESH-INTERVAL;VALUE=DURATION:PT1H
X-Robots-Tag:noindex
X-PUBLISHED-TTL:PT1H
BEGIN:VTIMEZONE
TZID:Europe/Madrid
BEGIN:DAYLIGHT
TZOFFSETFROM:+0100
TZOFFSETTO:+0200
TZNAME:CEST
DTSTART:20210328T010000
END:DAYLIGHT
BEGIN:STANDARD
TZOFFSETFROM:+0200
TZOFFSETTO:+0100
TZNAME:CET
DTSTART:20211031T010000
END:STANDARD
BEGIN:DAYLIGHT
TZOFFSETFROM:+0100
TZOFFSETTO:+0200
TZNAME:CEST
DTSTART:20220327T010000
END:DAYLIGHT
BEGIN:STANDARD
TZOFFSETFROM:+0200
TZOFFSETTO:+0100
TZNAME:CET
DTSTART:20221030T010000
END:STANDARD
BEGIN:DAYLIGHT
TZOFFSETFROM:+0100
TZOFFSETTO:+0200
TZNAME:CEST
DTSTART:20230326T010000
END:DAYLIGHT
BEGIN:STANDARD
TZOFFSETFROM:+0200
TZOFFSETTO:+0100
TZNAME:CET
DTSTART:20231029T010000
END:STANDARD
END:VTIMEZONE
BEGIN:VEVENT
DTSTART;TZID=Europe/Madrid:20220706T190000
DTEND;TZID=Europe/Madrid:20220706T203000
DTSTAMP:20260422T135130
CREATED:20220704T062842Z
LAST-MODIFIED:20220704T065459Z
UID:4860-1657134000-1657139400@geotermia.ch
SUMMARY:Webinar sobre geotermia general (profunda y superficial)
DESCRIPTION:Webinar sobre geotermia general (profunda y superficial)\, en castellano\, gratuito\, para todos los públicos y niveles. \nTema: geotermia general (profunda y superficial).\nFecha: miércoles 06 de julio del 2022\, de las 19:00 a las 20:30\, hora de España.\nIdioma: castellano.\nPrecio: gratuito.\nRequisitos: ninguno.\nEntrada: libre.\nMáximo de participantes: 10.\nPrograma gratuito utilizado en este webinar: Teams\nOrganizado por: Asociación Española de Geotermia.\nLector y moderador: José Martínez\, divulgador científico\, presidente de la Asociación Española de Geotermia\, como siempre contamos con la inestimable y activa participación de todos los asistentes.\nContenido: geotermia general (profunda y superficial).\nPara participar en este webinar: envíanos un WhatsApp al +41 76 607 17 67 o un e-mail a info@geotermia.ch con todos tus datos. \n¡Bienvenido!
URL:https://geotermia.ch/evento/webinar-sobre-geotermia-general/
CATEGORIES:Webinar
ATTACH;FMTTYPE=image/jpeg:https://geotermia.ch/wp-content/uploads/2020/12/v8.jpg
ORGANIZER;CN="Asociaci%C3%B3n Espa%C3%B1ola de Geotermia":MAILTO:info@geotermia.ch
END:VEVENT
END:VCALENDAR