BEGIN:VCALENDAR
VERSION:2.0
PRODID:-//Asociación Española de Geotermia - geotermia - energía - geotérmica  - ECPv6.15.11//NONSGML v1.0//EN
CALSCALE:GREGORIAN
METHOD:PUBLISH
X-WR-CALNAME:Asociación Española de Geotermia - geotermia - energía - geotérmica 
X-ORIGINAL-URL:https://geotermia.ch
X-WR-CALDESC:Eventos para Asociación Española de Geotermia - geotermia - energía - geotérmica 
REFRESH-INTERVAL;VALUE=DURATION:PT1H
X-Robots-Tag:noindex
X-PUBLISHED-TTL:PT1H
BEGIN:VTIMEZONE
TZID:Europe/Madrid
BEGIN:DAYLIGHT
TZOFFSETFROM:+0100
TZOFFSETTO:+0200
TZNAME:CEST
DTSTART:20210328T010000
END:DAYLIGHT
BEGIN:STANDARD
TZOFFSETFROM:+0200
TZOFFSETTO:+0100
TZNAME:CET
DTSTART:20211031T010000
END:STANDARD
BEGIN:DAYLIGHT
TZOFFSETFROM:+0100
TZOFFSETTO:+0200
TZNAME:CEST
DTSTART:20220327T010000
END:DAYLIGHT
BEGIN:STANDARD
TZOFFSETFROM:+0200
TZOFFSETTO:+0100
TZNAME:CET
DTSTART:20221030T010000
END:STANDARD
BEGIN:DAYLIGHT
TZOFFSETFROM:+0100
TZOFFSETTO:+0200
TZNAME:CEST
DTSTART:20230326T010000
END:DAYLIGHT
BEGIN:STANDARD
TZOFFSETFROM:+0200
TZOFFSETTO:+0100
TZNAME:CET
DTSTART:20231029T010000
END:STANDARD
END:VTIMEZONE
BEGIN:VEVENT
DTSTART;TZID=Europe/Madrid:20220428T190000
DTEND;TZID=Europe/Madrid:20220428T203000
DTSTAMP:20260422T190027
CREATED:20220425T084251Z
LAST-MODIFIED:20220425T090142Z
UID:4731-1651172400-1651177800@geotermia.ch
SUMMARY:XXXVIII Webinar sobre geotermia
DESCRIPTION:XXXVIII Webinar sobre geotermia en castellano\, para todos los públicos y niveles. \nTema: Geotermia.\nFecha: 28/4/2022 de 19:00 a 20:30 hora de España.\nIdioma: catsellano.\nPrecio: Gratuito.\nRequisitos: Ninguno.\nEntrada: Libre.\nMáximo de participantes: 20.\nPrograma utilizado en el seminario web: Teams\nOrganizado por: Asociación Española de Geotermia.\nOrador y moderador: José Martínez\, divulgador científico y presidente de la Asociación Española de Geotermia.\nContenido: Geotermia profunda y superficial\, con participación activa de los asistentes.\nEnvíanos un mail info@geotermia.ch con tus datos y participa activamente en el debate. \n¡Bienvenido!
URL:https://geotermia.ch/evento/webinar-geotermia/
CATEGORIES:Formación,Geotermia,Webinar
ATTACH;FMTTYPE=image/jpeg:https://geotermia.ch/wp-content/uploads/2021/01/b6.jpg
ORGANIZER;CN="Asociaci%C3%B3n Espa%C3%B1ola de Geotermia":MAILTO:info@geotermia.ch
END:VEVENT
END:VCALENDAR